BEGIN:VCALENDAR
VERSION:2.0
CALSCALE:GREGORIAN
METHOD:PUBLISH
PRODID:-//CSMusic.cz//Akce//EN
BEGIN:VEVENT
UID:akce_69aac71b3d6161.69708712
DTSTAMP:20260306T132251
DTSTART:20251101T000000
DTEND:20251101T000000
SUMMARY:Rybičky 48 - BIG/BÝT tour 2025 - Brno
LOCATION:Výstaviště, Brno
DESCRIPTION:Rybičky 48 - BIG/BÝT tour 2025 - Brno - Výstaviště, Brno
END:VEVENT
END:VCALENDAR