BEGIN:VCALENDAR
VERSION:2.0
CALSCALE:GREGORIAN
METHOD:PUBLISH
PRODID:-//CSMusic.cz//Akce//EN
BEGIN:VEVENT
UID:akce_69aacadc69dde9.79199478
DTSTAMP:20260306T133852
DTSTART:20250513T000000
DTEND:20250513T000000
SUMMARY:U-Bahn - Lomnice nad Popelkou
LOCATION:Kino, Lomnice nad Popelkou
DESCRIPTION:U-Bahn - Lomnice nad Popelkou - Kino, Lomnice nad Popelkou
END:VEVENT
END:VCALENDAR