BEGIN:VCALENDAR
VERSION:2.0
CALSCALE:GREGORIAN
METHOD:PUBLISH
PRODID:-//CSMusic.cz//Akce//EN
BEGIN:VEVENT
UID:akce_69ae367d242c56.19635485
DTSTAMP:20260309T035453
DTSTART:20241207T000000
DTEND:20241207T000000
SUMMARY:SKYLINE - SUPERPOWERS TOUR - Rakovník
LOCATION:KC, Rakovník
DESCRIPTION:SKYLINE - SUPERPOWERS TOUR - Rakovník - KC, Rakovník
END:VEVENT
END:VCALENDAR