BEGIN:VCALENDAR
VERSION:2.0
CALSCALE:GREGORIAN
METHOD:PUBLISH
PRODID:-//CSMusic.cz//Akce//EN
BEGIN:VEVENT
UID:akce_69b44f2a89d196.57599429
DTSTAMP:20260313T185346
DTSTART:20241010T000000
DTEND:20241010T000000
SUMMARY:Dorian - BMW BACKSEAT TOUR - Brno
LOCATION:Fléda, Brno
DESCRIPTION:Dorian - BMW BACKSEAT TOUR - Brno - Fléda, Brno
END:VEVENT
END:VCALENDAR