BEGIN:VCALENDAR
VERSION:2.0
CALSCALE:GREGORIAN
METHOD:PUBLISH
PRODID:-//CSMusic.cz//Akce//EN
BEGIN:VEVENT
UID:akce_69ddf839c4d970.76478209
DTSTAMP:20260414T101801
DTSTART:20250613T000000
DTEND:20250613T000000
SUMMARY:Michal David - Praha
LOCATION:O2 Arena, Praha
DESCRIPTION:Michal David - Praha - O2 Arena, Praha
END:VEVENT
END:VCALENDAR