BEGIN:VCALENDAR
VERSION:2.0
CALSCALE:GREGORIAN
METHOD:PUBLISH
PRODID:-//CSMusic.cz//Akce//EN
BEGIN:VEVENT
UID:akce_69e077c3f11626.29512744
DTSTAMP:20260416T074643
DTSTART:20250711T000000
DTEND:20250712T000000
SUMMARY:Groove Brno 2025 - Brno
LOCATION:Přehrada, Brno
DESCRIPTION:Groove Brno 2025 - Brno - Přehrada, Brno
END:VEVENT
END:VCALENDAR