BEGIN:VCALENDAR
VERSION:2.0
CALSCALE:GREGORIAN
METHOD:PUBLISH
PRODID:-//CSMusic.cz//Akce//EN
BEGIN:VEVENT
UID:akce_69e09465a69265.44333505
DTSTAMP:20260416T094853
DTSTART:20260417T000000
DTEND:20260417T000000
SUMMARY:Lenka Filipová - Poděbrady
LOCATION:Divadlo Na Kovárně, Poděbrady
DESCRIPTION:Lenka Filipová - Poděbrady - Divadlo Na Kovárně, Poděbrady
END:VEVENT
END:VCALENDAR