BEGIN:VCALENDAR
VERSION:2.0
CALSCALE:GREGORIAN
METHOD:PUBLISH
PRODID:-//CSMusic.cz//Akce//EN
BEGIN:VEVENT
UID:akce_69e09466a71840.56050788
DTSTAMP:20260416T094854
DTSTART:20260416T000000
DTEND:20260416T000000
SUMMARY:Prague Cello Quartet - Jeseník
LOCATION:Congress Hall – Priessnitz Curative Spa, Jeseník
DESCRIPTION:Prague Cello Quartet - Jeseník - Congress Hall – Priessnitz Curative Spa, Jeseník
END:VEVENT
END:VCALENDAR