BEGIN:VCALENDAR
VERSION:2.0
CALSCALE:GREGORIAN
METHOD:PUBLISH
PRODID:-//CSMusic.cz//Akce//EN
BEGIN:VEVENT
UID:akce_69e094672d8c60.90959719
DTSTAMP:20260416T094855
DTSTART:20260417T000000
DTEND:20260417T000000
SUMMARY:DENOI + DeSade + Astral One - Brno
LOCATION:ArtBar Druhý Pád, Brno
DESCRIPTION:DENOI + DeSade + Astral One - Brno - ArtBar Druhý Pád, Brno
END:VEVENT
END:VCALENDAR