BEGIN:VCALENDAR
VERSION:2.0
CALSCALE:GREGORIAN
METHOD:PUBLISH
PRODID:-//CSMusic.cz//Akce//EN
BEGIN:VEVENT
UID:akce_69e0946f5c2872.01445102
DTSTAMP:20260416T094903
DTSTART:20260416T000000
DTEND:20260416T000000
SUMMARY:Annet X - Ostrava
LOCATION:Barrák Music Club, Ostrava
DESCRIPTION:Annet X - Ostrava - Barrák Music Club, Ostrava
END:VEVENT
END:VCALENDAR