BEGIN:VCALENDAR
VERSION:2.0
CALSCALE:GREGORIAN
METHOD:PUBLISH
PRODID:-//CSMusic.cz//Akce//EN
BEGIN:VEVENT
UID:akce_69e094724af7d5.26203123
DTSTAMP:20260416T094906
DTSTART:20260416T000000
DTEND:20260416T000000
SUMMARY:Michal Hrůza + Imodium - JARO 2026 tour - Brno
LOCATION:Fléda, Brno
DESCRIPTION:Michal Hrůza + Imodium - JARO 2026 tour - Brno - Fléda, Brno
END:VEVENT
END:VCALENDAR