BEGIN:VCALENDAR
VERSION:2.0
CALSCALE:GREGORIAN
METHOD:PUBLISH
PRODID:-//CSMusic.cz//Akce//EN
BEGIN:VEVENT
UID:akce_69e1f82aef07e9.83479941
DTSTAMP:20260417T110650
DTSTART:20250530T000000
DTEND:20250530T000000
SUMMARY:Andy Lou - Banská Bystrica
LOCATION:Giardino Segreto, Banská Bystrica
DESCRIPTION:Andy Lou - Banská Bystrica - Giardino Segreto, Banská Bystrica
END:VEVENT
END:VCALENDAR