BEGIN:VCALENDAR
VERSION:2.0
CALSCALE:GREGORIAN
METHOD:PUBLISH
PRODID:-//CSMusic.cz//Akce//EN
BEGIN:VEVENT
UID:akce_69e492cea96c27.98259926
DTSTAMP:20260419T103110
DTSTART:20260310T000000
DTEND:20260310T000000
SUMMARY:AYA + MFO + nowalover - Praha
LOCATION:Archa+, Praha
DESCRIPTION:AYA + MFO + nowalover - Praha - Archa+, Praha
END:VEVENT
END:VCALENDAR