BEGIN:VCALENDAR
VERSION:2.0
CALSCALE:GREGORIAN
METHOD:PUBLISH
PRODID:-//CSMusic.cz//Akce//EN
BEGIN:VEVENT
UID:akce_69e4f054e9e842.98354706
DTSTAMP:20260419T171012
DTSTART:20230422T000000
DTEND:20230422T000000
SUMMARY:Skotsko v Úněticích 2023 - Únětice
LOCATION:Únětický pivovar, Únětice
DESCRIPTION:Skotsko v Úněticích 2023 - Únětice - Únětický pivovar, Únětice
END:VEVENT
END:VCALENDAR