BEGIN:VCALENDAR
VERSION:2.0
CALSCALE:GREGORIAN
METHOD:PUBLISH
PRODID:-//CSMusic.cz//Akce//EN
BEGIN:VEVENT
UID:akce_69e526c82c0733.06466898
DTSTAMP:20260419T210232
DTSTART:20230810T000000
DTEND:20230810T000000
SUMMARY:Festival Brod 1995 - Český Brod
LOCATION:, Český Brod
DESCRIPTION:Festival Brod 1995 - Český Brod - , Český Brod
END:VEVENT
END:VCALENDAR