BEGIN:VCALENDAR
VERSION:2.0
CALSCALE:GREGORIAN
METHOD:PUBLISH
PRODID:-//CSMusic.cz//Akce//EN
BEGIN:VEVENT
UID:akce_69e52af17f1770.30613216
DTSTAMP:20260419T212017
DTSTART:20260911T000000
DTEND:20260911T020000
SUMMARY:Chinaski - Open air léto 2026 - Děčín
LOCATION:Zámek, Děčín
DESCRIPTION:Chinaski - Open air léto 2026 - Děčín - Zámek, Děčín
END:VEVENT
END:VCALENDAR