BEGIN:VCALENDAR
VERSION:2.0
CALSCALE:GREGORIAN
METHOD:PUBLISH
PRODID:-//CSMusic.cz//Akce//EN
BEGIN:VEVENT
UID:akce_69e52b25eb5df3.83685269
DTSTAMP:20260419T212109
DTSTART:20260815T000000
DTEND:20260815T020000
SUMMARY:Chinaski - Open air léto 2026 - Litomyšl
LOCATION:Zámecké návrší, Litomyšl
DESCRIPTION:Chinaski - Open air léto 2026 - Litomyšl - Zámecké návrší, Litomyšl
END:VEVENT
END:VCALENDAR