BEGIN:VCALENDAR
VERSION:2.0
CALSCALE:GREGORIAN
METHOD:PUBLISH
PRODID:-//CSMusic.cz//Akce//EN
BEGIN:VEVENT
UID:akce_69e52b4449fd15.07237271
DTSTAMP:20260419T212140
DTSTART:20260829T000000
DTEND:20260829T020000
SUMMARY:Chinaski - Open air léto 2026 - Třeboň
LOCATION:Zámecký park, Třeboň
DESCRIPTION:Chinaski - Open air léto 2026 - Třeboň - Zámecký park, Třeboň
END:VEVENT
END:VCALENDAR