BEGIN:VCALENDAR
VERSION:2.0
CALSCALE:GREGORIAN
METHOD:PUBLISH
PRODID:-//CSMusic.cz//Akce//EN
BEGIN:VEVENT
UID:akce_69e52b596bde64.97172222
DTSTAMP:20260419T212201
DTSTART:20260828T000000
DTEND:20260828T020000
SUMMARY:Chinaski - Open air léto 2026 - Moravský Krumlov
LOCATION:Zámecká zahrada, Moravský Krumlov
DESCRIPTION:Chinaski - Open air léto 2026 - Moravský Krumlov - Zámecká zahrada, Moravský Krumlov
END:VEVENT
END:VCALENDAR