BEGIN:VCALENDAR
VERSION:2.0
CALSCALE:GREGORIAN
METHOD:PUBLISH
PRODID:-//CSMusic.cz//Akce//EN
BEGIN:VEVENT
UID:akce_69e52b5974c4d8.56109913
DTSTAMP:20260419T212201
DTSTART:20260717T000000
DTEND:20260717T020000
SUMMARY:Chinaski - Open air léto 2026 - Hrádek
LOCATION:Letní kino, Hrádek
DESCRIPTION:Chinaski - Open air léto 2026 - Hrádek - Letní kino, Hrádek
END:VEVENT
END:VCALENDAR