BEGIN:VCALENDAR
VERSION:2.0
CALSCALE:GREGORIAN
METHOD:PUBLISH
PRODID:-//CSMusic.cz//Akce//EN
BEGIN:VEVENT
UID:akce_69e52b83cd18b1.86260470
DTSTAMP:20260419T212243
DTSTART:20260905T000000
DTEND:20260905T020000
SUMMARY:Chinaski - Open air léto 2026 - Kutná Hora
LOCATION:Zahrady u Jezuitské koleje, Kutná Hora
DESCRIPTION:Chinaski - Open air léto 2026 - Kutná Hora - Zahrady u Jezuitské koleje, Kutná Hora
END:VEVENT
END:VCALENDAR