BEGIN:VCALENDAR
VERSION:2.0
CALSCALE:GREGORIAN
METHOD:PUBLISH
PRODID:-//CSMusic.cz//Akce//EN
BEGIN:VEVENT
UID:akce_69e530c3361cc9.53945351
DTSTAMP:20260419T214507
DTSTART:20250221T000000
DTEND:20250221T000000
SUMMARY:Pam Rabbit - THE MISSING TOUR - Liberec
LOCATION:Klub Lípa, Liberec
DESCRIPTION:Pam Rabbit - THE MISSING TOUR - Liberec - Klub Lípa, Liberec
END:VEVENT
END:VCALENDAR