BEGIN:VCALENDAR
VERSION:2.0
CALSCALE:GREGORIAN
METHOD:PUBLISH
PRODID:-//CSMusic.cz//Akce//EN
BEGIN:VEVENT
UID:akce_69e5c90a393489.47371373
DTSTAMP:20260420T083450
DTSTART:20221006T000000
DTEND:20221006T000000
SUMMARY:Petr Kotvald - RECITÁL - Praha
LOCATION:Divadlo na Maninách, Praha
DESCRIPTION:Petr Kotvald - RECITÁL - Praha - Divadlo na Maninách, Praha
END:VEVENT
END:VCALENDAR