BEGIN:VCALENDAR
VERSION:2.0
CALSCALE:GREGORIAN
METHOD:PUBLISH
PRODID:-//CSMusic.cz//Akce//EN
BEGIN:VEVENT
UID:akce_69e5e784b2fdc6.13144816
DTSTAMP:20260420T104452
DTSTART:20251114T000000
DTEND:20251114T000000
SUMMARY:Lipo - Tažní ptáci Tour 2025 - Ostrava
LOCATION:BUMBUM Comedy club, Ostrava
DESCRIPTION:Lipo - Tažní ptáci Tour 2025 - Ostrava - BUMBUM Comedy club, Ostrava
END:VEVENT
END:VCALENDAR