BEGIN:VCALENDAR
VERSION:2.0
CALSCALE:GREGORIAN
METHOD:PUBLISH
PRODID:-//CSMusic.cz//Akce//EN
BEGIN:VEVENT
UID:akce_69e61618d85d85.61964794
DTSTAMP:20260420T140336
DTSTART:20250322T000000
DTEND:20250322T000000
SUMMARY:Vesna - Muzika Slavica 2025 - České Budějovice
LOCATION:MC Fabrika, České Budějovice
DESCRIPTION:Vesna - Muzika Slavica 2025 - České Budějovice - MC Fabrika, České Budějovice
END:VEVENT
END:VCALENDAR