BEGIN:VCALENDAR
VERSION:2.0
CALSCALE:GREGORIAN
METHOD:PUBLISH
PRODID:-//CSMusic.cz//Akce//EN
BEGIN:VEVENT
UID:akce_69e73881f0f1e8.51767910
DTSTAMP:20260421T104241
DTSTART:20260417T000000
DTEND:20260417T000000
SUMMARY:Lake Malawi - Praha
LOCATION:Palác Akropolis, Praha
DESCRIPTION:Lake Malawi - Praha - Palác Akropolis, Praha
END:VEVENT
END:VCALENDAR