BEGIN:VCALENDAR
VERSION:2.0
CALSCALE:GREGORIAN
METHOD:PUBLISH
PRODID:-//CSMusic.cz//Akce//EN
BEGIN:VEVENT
UID:akce_69e738931b59d2.58650823
DTSTAMP:20260421T104259
DTSTART:20260309T000000
DTEND:20260309T000000
SUMMARY:Prague Cello Quartet - Zlín
LOCATION:Kongresové centrum, Zlín
DESCRIPTION:Prague Cello Quartet - Zlín - Kongresové centrum, Zlín
END:VEVENT
END:VCALENDAR