BEGIN:VCALENDAR
VERSION:2.0
CALSCALE:GREGORIAN
METHOD:PUBLISH
PRODID:-//CSMusic.cz//Akce//EN
BEGIN:VEVENT
UID:akce_69e75fe2d58078.28757137
DTSTAMP:20260421T133042
DTSTART:20240406T000000
DTEND:20240406T000000
SUMMARY:Ben Cristovao - Zaječí
LOCATION:Retro Music Club, Zaječí
DESCRIPTION:Ben Cristovao - Zaječí - Retro Music Club, Zaječí
END:VEVENT
END:VCALENDAR