BEGIN:VCALENDAR
VERSION:2.0
CALSCALE:GREGORIAN
METHOD:PUBLISH
PRODID:-//CSMusic.cz//Akce//EN
BEGIN:VEVENT
UID:akce_69e7d8aa6b9da4.49543054
DTSTAMP:20260421T220602
DTSTART:20210424T000000
DTEND:20210424T000000
SUMMARY:Ústecký majáles 2020 - Ústí nad Labem
LOCATION:Letní kino, Ústí nad Labem
DESCRIPTION:Ústecký majáles 2020 - Ústí nad Labem - Letní kino, Ústí nad Labem
END:VEVENT
END:VCALENDAR