BEGIN:VCALENDAR
VERSION:2.0
CALSCALE:GREGORIAN
METHOD:PUBLISH
PRODID:-//CSMusic.cz//Akce//EN
BEGIN:VEVENT
UID:akce_69e80bfab99cb4.90629462
DTSTAMP:20260422T014458
DTSTART:20230616T000000
DTEND:20230618T000000
SUMMARY:Votvírák 2023 - Milovice (okres Nymburk)
LOCATION:Areál letiště Boží Dar, Milovice (okres Nymburk)
DESCRIPTION:Votvírák 2023 - Milovice (okres Nymburk) - Areál letiště Boží Dar, Milovice (okres Nymburk)
END:VEVENT
END:VCALENDAR