BEGIN:VCALENDAR
VERSION:2.0
CALSCALE:GREGORIAN
METHOD:PUBLISH
PRODID:-//CSMusic.cz//Akce//EN
BEGIN:VEVENT
UID:akce_69e81005707045.00961200
DTSTAMP:20260422T020213
DTSTART:20260422T000000
DTEND:20260422T000000
SUMMARY:Michal Prokop - Brno
LOCATION:Sono centrum, Brno
DESCRIPTION:Michal Prokop - Brno - Sono centrum, Brno
END:VEVENT
END:VCALENDAR