BEGIN:VCALENDAR
VERSION:2.0
CALSCALE:GREGORIAN
METHOD:PUBLISH
PRODID:-//CSMusic.cz//Akce//EN
BEGIN:VEVENT
UID:akce_69e81167343de5.34309176
DTSTAMP:20260422T020807
DTSTART:20260423T000000
DTEND:20260423T000000
SUMMARY:Anna K - Plzeň
LOCATION:Měšťanská beseda, Plzeň
DESCRIPTION:Anna K - Plzeň - Měšťanská beseda, Plzeň
END:VEVENT
END:VCALENDAR