BEGIN:VCALENDAR
VERSION:2.0
CALSCALE:GREGORIAN
METHOD:PUBLISH
PRODID:-//CSMusic.cz//Akce//EN
BEGIN:VEVENT
UID:akce_69e811674fe435.62977499
DTSTAMP:20260422T020807
DTSTART:20260422T000000
DTEND:20260422T000000
SUMMARY:Malina Brothers - Praha
LOCATION:Folková mlýnice, Praha
DESCRIPTION:Malina Brothers - Praha - Folková mlýnice, Praha
END:VEVENT
END:VCALENDAR