BEGIN:VCALENDAR
VERSION:2.0
CALSCALE:GREGORIAN
METHOD:PUBLISH
PRODID:-//CSMusic.cz//Akce//EN
BEGIN:VEVENT
UID:akce_69e84bc8bb0be1.79629495
DTSTAMP:20260422T061712
DTSTART:20210520T000000
DTEND:20210520T000000
SUMMARY:O5 & Radeček - Turné pod širým nebem 2021 - Praha
LOCATION:Park Riegrovy sady, Praha
DESCRIPTION:O5 & Radeček - Turné pod širým nebem 2021 - Praha - Park Riegrovy sady, Praha
END:VEVENT
END:VCALENDAR