BEGIN:VCALENDAR
VERSION:2.0
CALSCALE:GREGORIAN
METHOD:PUBLISH
PRODID:-//CSMusic.cz//Akce//EN
BEGIN:VEVENT
UID:akce_69e89d7ead0443.35861293
DTSTAMP:20260422T120550
DTSTART:20250920T000000
DTEND:20250920T000000
SUMMARY:Traktor - Jungle tour 2025 - Olomouc
LOCATION:, Olomouc
DESCRIPTION:Traktor - Jungle tour 2025 - Olomouc - , Olomouc
END:VEVENT
END:VCALENDAR