BEGIN:VCALENDAR
VERSION:2.0
CALSCALE:GREGORIAN
METHOD:PUBLISH
PRODID:-//CSMusic.cz//Akce//EN
BEGIN:VEVENT
UID:akce_69e96306624303.62928770
DTSTAMP:20260423T020838
DTSTART:20260424T000000
DTEND:20260424T000000
SUMMARY:Harlej + Loco Loco - Tak jdem dál tour - Frýdlant nad Ostravicí
LOCATION:Hlavní 1755, Frýdlant nad Ostravicí
DESCRIPTION:Harlej + Loco Loco - Tak jdem dál tour - Frýdlant nad Ostravicí - Hlavní 1755, Frýdlant nad Ostravicí
END:VEVENT
END:VCALENDAR