BEGIN:VCALENDAR
VERSION:2.0
CALSCALE:GREGORIAN
METHOD:PUBLISH
PRODID:-//CSMusic.cz//Akce//EN
BEGIN:VEVENT
UID:akce_69e96331433e50.93243989
DTSTAMP:20260423T020921
DTSTART:20260423T000000
DTEND:20260423T000000
SUMMARY:Frankie & The Deadbeats + Kill The Dandies! - Praha
LOCATION:Cargo Gallery, Praha
DESCRIPTION:Frankie & The Deadbeats + Kill The Dandies! - Praha - Cargo Gallery, Praha
END:VEVENT
END:VCALENDAR