BEGIN:VCALENDAR
VERSION:2.0
CALSCALE:GREGORIAN
METHOD:PUBLISH
PRODID:-//CSMusic.cz//Akce//EN
BEGIN:VEVENT
UID:akce_69e9c5b80d79a2.16344371
DTSTAMP:20260423T090944
DTSTART:20240517T000000
DTEND:20240517T000000
SUMMARY:Majáles Ostrava 2024 - Ostrava
LOCATION:Slezskoostravský hrad, Ostrava
DESCRIPTION:Majáles Ostrava 2024 - Ostrava - Slezskoostravský hrad, Ostrava
END:VEVENT
END:VCALENDAR