BEGIN:VCALENDAR
VERSION:2.0
CALSCALE:GREGORIAN
METHOD:PUBLISH
PRODID:-//CSMusic.cz//Akce//EN
BEGIN:VEVENT
UID:akce_69e9e7f8e3aef9.12478860
DTSTAMP:20260423T113552
DTSTART:20241009T000000
DTEND:20241009T000000
SUMMARY:Lenka Dusilová - Praha
LOCATION:Lucerna Music Bar, Praha
DESCRIPTION:Lenka Dusilová - Praha - Lucerna Music Bar, Praha
END:VEVENT
END:VCALENDAR