BEGIN:VCALENDAR
VERSION:2.0
CALSCALE:GREGORIAN
METHOD:PUBLISH
PRODID:-//CSMusic.cz//Akce//EN
BEGIN:VEVENT
UID:akce_69e9fa6296ab69.61589382
DTSTAMP:20260423T125426
DTSTART:20241018T000000
DTEND:20241018T000000
SUMMARY:B-Side Band - TURNÉ24 - Olomouc
LOCATION:Bounty Rock Café, Olomouc
DESCRIPTION:B-Side Band - TURNÉ24 - Olomouc - Bounty Rock Café, Olomouc
END:VEVENT
END:VCALENDAR