BEGIN:VCALENDAR
VERSION:2.0
CALSCALE:GREGORIAN
METHOD:PUBLISH
PRODID:-//CSMusic.cz//Akce//EN
BEGIN:VEVENT
UID:akce_69e9fe70247014.97837308
DTSTAMP:20260423T131144
DTSTART:20240614T000000
DTEND:20240615T000000
SUMMARY:Punkplugged - Újezd u Přelouče
LOCATION:, Újezd u Přelouče
DESCRIPTION:Punkplugged - Újezd u Přelouče - , Újezd u Přelouče
END:VEVENT
END:VCALENDAR