BEGIN:VCALENDAR
VERSION:2.0
CALSCALE:GREGORIAN
METHOD:PUBLISH
PRODID:-//CSMusic.cz//Akce//EN
BEGIN:VEVENT
UID:akce_69ea21249cd198.07520527
DTSTAMP:20260423T153948
DTSTART:20241130T000000
DTEND:20241130T000000
SUMMARY:IAM Oskar + Mikael Wertez + Danone - Brno
LOCATION:Artbar, Brno
DESCRIPTION:IAM Oskar + Mikael Wertez + Danone - Brno - Artbar, Brno
END:VEVENT
END:VCALENDAR