BEGIN:VCALENDAR
VERSION:2.0
CALSCALE:GREGORIAN
METHOD:PUBLISH
PRODID:-//CSMusic.cz//Akce//EN
BEGIN:VEVENT
UID:akce_69ea93fd1adee2.92643420
DTSTAMP:20260423T234949
DTSTART:20250415T000000
DTEND:20250415T000000
SUMMARY:Chinaski - 30 let - Slovenské turné 2025 - Liptovský Mikuláš
LOCATION:Dom kultúry, Liptovský Mikuláš
DESCRIPTION:Chinaski - 30 let - Slovenské turné 2025 - Liptovský Mikuláš - Dom kultúry, Liptovský Mikuláš
END:VEVENT
END:VCALENDAR