BEGIN:VCALENDAR
VERSION:2.0
CALSCALE:GREGORIAN
METHOD:PUBLISH
PRODID:-//CSMusic.cz//Akce//EN
BEGIN:VEVENT
UID:akce_69eab3d3db9ed3.73620872
DTSTAMP:20260424T020539
DTSTART:20240720T000000
DTEND:20240720T000000
SUMMARY:MIRAI - SUMMER FEST 2024 - Mikulov 
LOCATION:Amfiteátr, Mikulov
DESCRIPTION:MIRAI - SUMMER FEST 2024 - Mikulov  - Amfiteátr, Mikulov
END:VEVENT
END:VCALENDAR