BEGIN:VCALENDAR
VERSION:2.0
CALSCALE:GREGORIAN
METHOD:PUBLISH
PRODID:-//CSMusic.cz//Akce//EN
BEGIN:VEVENT
UID:akce_69eab8608e5122.51577214
DTSTAMP:20260424T022504
DTSTART:20240808T000000
DTEND:20240808T000000
SUMMARY:Kateřina Marie Tichá - Praha
LOCATION:Občanská plovárna, Praha
DESCRIPTION:Kateřina Marie Tichá - Praha - Občanská plovárna, Praha
END:VEVENT
END:VCALENDAR