BEGIN:VCALENDAR
VERSION:2.0
CALSCALE:GREGORIAN
METHOD:PUBLISH
PRODID:-//CSMusic.cz//Akce//EN
BEGIN:VEVENT
UID:akce_69eb0894f184d6.33688506
DTSTAMP:20260424T080716
DTSTART:20260424T000000
DTEND:20260424T000000
SUMMARY:Tomáš Klus - Lanškroun
LOCATION:Kulturní centrum, Lanškroun
DESCRIPTION:Tomáš Klus - Lanškroun - Kulturní centrum, Lanškroun
END:VEVENT
END:VCALENDAR