BEGIN:VCALENDAR
VERSION:2.0
CALSCALE:GREGORIAN
METHOD:PUBLISH
PRODID:-//CSMusic.cz//Akce//EN
BEGIN:VEVENT
UID:akce_69eb08e6b81da2.24139710
DTSTAMP:20260424T080838
DTSTART:20260424T000000
DTEND:20260424T000000
SUMMARY:Jamaron - Praha
LOCATION:Forum Karlín, Praha
DESCRIPTION:Jamaron - Praha - Forum Karlín, Praha
END:VEVENT
END:VCALENDAR