BEGIN:VCALENDAR
VERSION:2.0
CALSCALE:GREGORIAN
METHOD:PUBLISH
PRODID:-//CSMusic.cz//Akce//EN
BEGIN:VEVENT
UID:akce_69eb09df6a3836.73509421
DTSTAMP:20260424T081247
DTSTART:20260424T000000
DTEND:20260424T000000
SUMMARY:DENOI + DeSade + Astral One - Praha
LOCATION:Cargo Gallery, Praha
DESCRIPTION:DENOI + DeSade + Astral One - Praha - Cargo Gallery, Praha
END:VEVENT
END:VCALENDAR