BEGIN:VCALENDAR
VERSION:2.0
CALSCALE:GREGORIAN
METHOD:PUBLISH
PRODID:-//CSMusic.cz//Akce//EN
BEGIN:VEVENT
UID:akce_69eb0a1d2842a2.68683276
DTSTAMP:20260424T081349
DTSTART:20260424T000000
DTEND:20260424T000000
SUMMARY:NIKA - Praha
LOCATION:Jazz Dock, Praha
DESCRIPTION:NIKA - Praha - Jazz Dock, Praha
END:VEVENT
END:VCALENDAR