BEGIN:VCALENDAR
VERSION:2.0
CALSCALE:GREGORIAN
METHOD:PUBLISH
PRODID:-//CSMusic.cz//Akce//EN
BEGIN:VEVENT
UID:akce_69eb524d45e643.77932301
DTSTAMP:20260424T132149
DTSTART:20241105T000000
DTEND:20241105T000000
SUMMARY:Kabát  - Po čertech velký turné 2024 - Liberec
LOCATION:, Liberec
DESCRIPTION:Kabát  - Po čertech velký turné 2024 - Liberec - , Liberec
END:VEVENT
END:VCALENDAR